BEGIN:VCALENDAR
VERSION:2.0
PRODID:-//https://events.ao-alliance.org///NONSGML kigkonsult.se iCalcreator 2.10.15//
METHOD:PUBLISH
BEGIN:VEVENT
UID:20260423T201545CEST-51043i8MDk@https://events.ao-alliance.org/
DTSTAMP:20260423T181545Z
DESCRIPTION:{loadmoduleid 166}\n{loadmoduleid 159} https://events.ao-allian
 ce.org/event/481-cours-principes-du-traitement-non-operatoire-des-fracture
 s-de-membres-les-plus-courantes
DTSTART:20260506T103858Z
DTEND:20260508T123858Z
LOCATION:Maferinya\, Guinée ()
SUMMARY:Cours_Principes du Traitement Non-Opératoire des Fractures de Membr
 es les plus Courantes
URL:https://events.ao-alliance.org/event/481-cours-principes-du-traitement-
 non-operatoire-des-fractures-de-membres-les-plus-courantes
END:VEVENT
END:VCALENDAR
