BEGIN:VCALENDAR
VERSION:2.0
PRODID:-//https://events.ao-alliance.org///NONSGML kigkonsult.se iCalcreator 2.10.15//
METHOD:PUBLISH
BEGIN:VEVENT
UID:20260423T201051CEST-5976CvvHzX@https://events.ao-alliance.org/
DTSTAMP:20260423T181051Z
DESCRIPTION:{loadmoduleid 185}\n{loadmoduleid 159} https://events.ao-allian
 ce.org/event/393-aoa-seminar-basics-of-fracture-management-for-operating-r
 oom-personnel
DTSTART;VALUE=DATE:20260522
LOCATION:Kumasi\, Ghana ()
SUMMARY:AOA Seminar—Basics of Fracture Management for Operating Room Person
 nel
URL:https://events.ao-alliance.org/event/393-aoa-seminar-basics-of-fracture
 -management-for-operating-room-personnel
END:VEVENT
END:VCALENDAR
